BEGIN:VCALENDAR
VERSION:2.0
PRODID:-//Microsoft Corporation//Outlook 11.0 MIMEDIR//EN
METHOD:PUBLISH
BEGIN:VEVENT
CLASS:PUBLIC
DTSTAMP:20260425T133824Z
UID:SF69ea666300d159a27d0684f2-1777124304@towncommon.org
DTSTART:20260520T213000Z
DTEND:20260520T233000Z
SUMMARY:Celebrate Winchester: Community and Business Awards
DESCRIPTION:
LOCATION:Griffin Museum of Photography\, 67 Shore Road\, Winchester\, MA 01890
URL:https://winchesterchamber.com/events/#!event/2026/5/20/celebrate-winch
 ester-community-and-business-awards
IMAGE:https://d1tif55lvfk8gc.cloudfront.net/69ea666300d159a27d0684f2s.jpg?17
 76969314\,https://d1tif55lvfk8gc.cloudfront.net/69ea666300d159a27d0684
 f2.jpg?1776969314
CATEGORIES:Commercial
END:VEVENT
END:VCALENDAR
