BEGIN:VCALENDAR
VERSION:2.0
PRODID:-//Microsoft Corporation//Outlook 11.0 MIMEDIR//EN
METHOD:PUBLISH
BEGIN:VEVENT
CLASS:PUBLIC
DTSTAMP:20260424T094749Z
UID:12506-1777024069@towncommon.org
DTSTART:20260319T230000Z
DTEND:20260320T000000Z
SUMMARY:Finance Committee Meeting
DESCRIPTION:Agenda at
  https://www.winchester.us/AgendaCenter/FINANCE-COMMITTEE-15/?#_0319202
 6-6971
LOCATION:Winchester Town Hall\, 71 Mt. Vernon Street\, Winchester\, MA 01890
URL:https://www.winchester.us/calendar.aspx?EID=12506
CATEGORIES:Government
END:VEVENT
END:VCALENDAR
