BEGIN:VCALENDAR
VERSION:2.0
PRODID:-//Microsoft Corporation//Outlook 11.0 MIMEDIR//EN
METHOD:PUBLISH
BEGIN:VEVENT
CLASS:PUBLIC
DTSTAMP:20260424T095030Z
UID:12422-1777024230@towncommon.org
DTSTART:20260304T190000Z
DTEND:20260305T045900Z
SUMMARY:Finance Committee Appointing Committee
DESCRIPTION:INTERVIEW FOR FINANCE COMMITTEE SEAT
LOCATION:Winchester Town Hall\, 71 Mt. Vernon Street\, Winchester\, MA 01890
URL:https://www.winchester.us/calendar.aspx?EID=12422
CATEGORIES:Government
END:VEVENT
END:VCALENDAR
