BEGIN:VCALENDAR
VERSION:2.0
PRODID:-//Microsoft Corporation//Outlook 11.0 MIMEDIR//EN
METHOD:PUBLISH
BEGIN:VEVENT
CLASS:PUBLIC
DTSTAMP:20260419T121526Z
UID:10001173-1765622700-1765627200@www.winchestermusic.org-1776@towncommon.org
DTSTART:20251213T154500Z
DTEND:20251213T170000Z
SUMMARY:Outreach Concert: Holiday Pineapple Posse
DESCRIPTION:
LOCATION:Winchester Savings Bank\, 661 Main Street\, Winchester\, MA 01890
URL:https://www.winchestermusic.org/event/outreach-concert-holiday-pineapp
 le-posse-2/
CATEGORIES:Cultural\,Education
END:VEVENT
END:VCALENDAR
