BEGIN:VCALENDAR
VERSION:2.0
PRODID:-//Microsoft Corporation//Outlook 11.0 MIMEDIR//EN
METHOD:PUBLISH
BEGIN:VEVENT
CLASS:PUBLIC
DTSTAMP:20260424T135442Z
UID:12160-1777038883@towncommon.org
DTSTART:20251121T003000Z
DTEND:20251121T045900Z
SUMMARY:Finance Committee Meeting
DESCRIPTION:Agenda at
  https://www.winchester.us/AgendaCenter/FINANCE-COMMITTEE-15/?#_1120202
 5-6742
LOCATION:REMOTE PARTICIPATION VIA ZOOM https://us02web.zoom.us/j/86539269996
URL:https://www.winchester.us/calendar.aspx?EID=12160
CATEGORIES:Government
END:VEVENT
END:VCALENDAR
