BEGIN:VCALENDAR
VERSION:2.0
PRODID:-//Microsoft Corporation//Outlook 11.0 MIMEDIR//EN
METHOD:PUBLISH
BEGIN:VEVENT
CLASS:PUBLIC
DTSTAMP:20260424T094657Z
UID:12046-1777024017@towncommon.org
DTSTART:20251014T203000Z
DTEND:20251015T035900Z
SUMMARY:Winchester Housing Authority
DESCRIPTION:Agenda at
  https://www.winchester.us/AgendaCenter/WINCHESTER-HOUSING-AUTHORITY-TO
 WN-CLERKS-20/?#_10142025-6640
LOCATION:13 Westley Street\, Winchester\, MA 01890
URL:https://www.winchester.us/calendar.aspx?EID=12046
CATEGORIES:Government
END:VEVENT
END:VCALENDAR
