BEGIN:VCALENDAR
VERSION:2.0
PRODID:-//Microsoft Corporation//Outlook 11.0 MIMEDIR//EN
METHOD:PUBLISH
BEGIN:VEVENT
CLASS:PUBLIC
DTSTAMP:20260424T094611Z
UID:11760-1777023971@towncommon.org
DTSTART:20250708T203000Z
DTEND:20250708T223000Z
SUMMARY:Winchester Housing Authority
DESCRIPTION:Agenda at
  https://www.winchester.us/AgendaCenter/WINCHESTER-HOUSING-AUTHORITY-TO
 WN-CLERKS-20/?#_07082025-6437
LOCATION:13 Westley Street\, Winchester\, MA 01890
URL:https://www.winchester.us/calendar.aspx?EID=11760
CATEGORIES:Government
END:VEVENT
END:VCALENDAR
