BEGIN:VCALENDAR
VERSION:2.0
PRODID:-//Microsoft Corporation//Outlook 11.0 MIMEDIR//EN
METHOD:PUBLISH
BEGIN:VEVENT
CLASS:PUBLIC
DTSTAMP:20260424T094829Z
UID:TCTF-1777024109@towncommon.org
DTSTART:20250416T203000Z
DTEND:20250416T213000Z
SUMMARY:Meet and Greet with NFSJ
DESCRIPTION:Connect with new peopleQ&A with NFSJ staff and volunteersHear about
  upcoming events and opportunities
LOCATION:Winchester Public Library\, 80 Washington Street\, Winchester\, MA
  01890
URL:https://nfsj.org/
IMAGE:https://towncommon.org/sites/default/files/2025-04/Whats-next-with-NFS
 J.png
CATEGORIES:Community
END:VEVENT
END:VCALENDAR
