BEGIN:VCALENDAR
VERSION:2.0
PRODID:-//Microsoft Corporation//Outlook 11.0 MIMEDIR//EN
METHOD:PUBLISH
BEGIN:VEVENT
CLASS:PUBLIC
DTSTAMP:20260425T203109Z
UID:TCTF-1777149069@towncommon.org
DTSTART:20240302T200000Z
DTEND:20240302T213000Z
SUMMARY:Titania's Fairy Ball
DESCRIPTION:Embrace your inner fairy and join us for Titania's Fairy Ball!
  ​Ballet Arts Centre of Winchester invites you to join Titania\,
  Queen of the Fairies\, and deck out in your favorite sparkling
  tiaras\, magical wings\, and ethereal fashions! Ticket includes
  dancing\, refreshments\, crafts\, photo corner\, and a special ballet
  performance by Titania’s Fairies! Each Dancer will also take home a
  special fairy gift as a keepsake. Open to all Dancers and Friends ages
  3.5 to 7 on Saturday\, March 2nd at 3:00 p.m. at BAC Studios\, 50
  Cross Street\, Winchester MA. One ticket admits one child with one
  grown-up.
LOCATION:Ballet Arts Centre of Winchester\, 50 Cross Street\, Winchester\, MA
  01890
URL:http://www.bacw.com
IMAGE:https://towncommon.org/sites/default/files/2024-02/Fairy%20Ball%20Flye
 r%20New%20300%20Added%20No%20Text%202024%20Final.jpg
CATEGORIES:Community\,Cultural\,Family
END:VEVENT
END:VCALENDAR
