BEGIN:VCALENDAR
VERSION:2.0
PRODID:-//Microsoft Corporation//Outlook 11.0 MIMEDIR//EN
METHOD:PUBLISH
BEGIN:VEVENT
CLASS:PUBLIC
DTSTAMP:20260425T191203Z
UID:12618-1777144323@towncommon.org
DTSTART:20260423T200000Z
DTEND:20260424T035900Z
SUMMARY:Climate Action Advisory Committee-REVISED
DESCRIPTION:Agenda at
  https://www.winchester.us/AgendaCenter/CLIMATE-ACTION-ADVISORY-COMMITT
 EE-TOWN-C-21/?#_04232026-7061
LOCATION:Remote Participation Via Zoom:
  https://us02web.zoom.us/j/82570778069?pwd=fM9H3ZGhQp8anyWeDa6bQOUqDrX9
 B0.1
URL:https://www.winchester.us/calendar.aspx?EID=12618
CATEGORIES:Government
END:VEVENT
END:VCALENDAR
