BEGIN:VCALENDAR
VERSION:2.0
PRODID:-//Microsoft Corporation//Outlook 11.0 MIMEDIR//EN
METHOD:PUBLISH
BEGIN:VEVENT
CLASS:PUBLIC
DTSTAMP:20260423T151348Z
UID:12582-1776957228@towncommon.org
DTSTART:20260414T230000Z
DTEND:20260415T035900Z
SUMMARY:Committee on Government Regulations
DESCRIPTION:Agenda at
  https://www.winchester.us/AgendaCenter/COMMITTEE-ON-GOVERNMENT-REGULAT
 IONS-88/?#_04142026-7031
LOCATION:Winchester Town Hall\, 71 Mt. Vernon Street\, Winchester\, MA 01890
URL:https://www.winchester.us/calendar.aspx?EID=12582
CATEGORIES:Government
END:VEVENT
END:VCALENDAR
