BEGIN:VCALENDAR
VERSION:2.0
PRODID:-//Microsoft Corporation//Outlook 11.0 MIMEDIR//EN
METHOD:PUBLISH
BEGIN:VEVENT
CLASS:PUBLIC
DTSTAMP:20260425T105524Z
UID:12512-1777114524@towncommon.org
DTSTART:20260328T190000Z
DTEND:20260328T203000Z
SUMMARY:Jazz Jam
DESCRIPTION:Join us at Winchester Community Music School for an afternoon of fun\,
  spontaneous jazz playing! Instrumentalists and vocalists of all skill
  levels are invited to sit in with the house band or just come by and
  listen to some great jazz music. The house band will feature Tad
  Hitchcock\, guitar\; Mark Pucci\, bass\; and Tony Cerra\, drums. 
 
 NOTE: participating vocalists and instrumentalists - please bring
  charts for the band. 
 
 Free admission. For more information or to register\, visit
  www.winchestermusic.org or call 781-721-2950. 407 Highland Avenue\,
  Winchester.
LOCATION:Winchester Community Music School\, 407 Highland Avenue\, Winchester\,
  MA 01890
URL:https://www.winchester.us/calendar.aspx?EID=12512
IMAGE:https://www.winchester.us/calendar/Jazz%20Jam%20graphic.png
CATEGORIES:Cultural\,Education
END:VEVENT
END:VCALENDAR
