BEGIN:VCALENDAR
VERSION:2.0
PRODID:-//Microsoft Corporation//Outlook 11.0 MIMEDIR//EN
METHOD:PUBLISH
BEGIN:VEVENT
CLASS:PUBLIC
DTSTAMP:20260423T142740Z
UID:12515-1776954460@towncommon.org
DTSTART:20260326T230000Z
DTEND:20260327T035900Z
SUMMARY:Field Management Committee
DESCRIPTION:Agenda at
  https://www.winchester.us/AgendaCenter/FIELD-MANAGEMENT-COMMITTEE-TOWN
 -CLERKS-O-38/?#_03262026-6975
LOCATION:REMOTE PARTICIPATION VIA ZOOMhttps://us02web.zoom.us/j/84061073555
URL:https://www.winchester.us/calendar.aspx?EID=12515
CATEGORIES:Government
END:VEVENT
END:VCALENDAR
