BEGIN:VCALENDAR
VERSION:2.0
PRODID:-//Microsoft Corporation//Outlook 11.0 MIMEDIR//EN
METHOD:PUBLISH
BEGIN:VEVENT
CLASS:PUBLIC
DTSTAMP:20260423T120014Z
UID:TCTF-1776945614@towncommon.org
DTSTART:20260321T180000Z
DTEND:20260321T200000Z
SUMMARY:Spring Equinox Walk
DESCRIPTION:March 20 is the vernal equinox\, marking the beginning of spring. In
  New England\, the weather begins to moderate\, the first flowers push
  through the soil\, and daylight stretches a little longer each day.
  Celebrate this time of rebirth and renewal with a walk through a local
  conservation area in search of signs of spring. We’ll begin with a
  touch of poetry and equinox lore\, then focus on plant identification
  and fascinating bits of natural history. Suitable for ages 10 and up.
LOCATION:Wright-Locke Farm\, 82 Ridge Street\, Winchester\, MA 01890
URL:https://www.ultracamp.com/info/sessiondetail.aspx?idCamp=1168&campCode
 =WRF&idSession=576344
CATEGORIES:Environment
END:VEVENT
END:VCALENDAR
