BEGIN:VCALENDAR
VERSION:2.0
PRODID:-//Microsoft Corporation//Outlook 11.0 MIMEDIR//EN
METHOD:PUBLISH
BEGIN:VEVENT
CLASS:PUBLIC
DTSTAMP:20260423T121439Z
UID:12482-1776946479@towncommon.org
DTSTART:20260316T193000Z
DTEND:20260316T203000Z
SUMMARY:McCall School Council Meeting
DESCRIPTION:Agenda at
  https://www.winchester.us/AgendaCenter/SCHOOL-COUNCILS-TOWN-CLERKS-OFF
 ICE-56/?#_03162026-6956
LOCATION:485 Main Street\, Winchester\, MA 01890
URL:https://www.winchester.us/calendar.aspx?EID=12482
CATEGORIES:Government\,Education
END:VEVENT
END:VCALENDAR
