BEGIN:VCALENDAR
VERSION:2.0
PRODID:-//Microsoft Corporation//Outlook 11.0 MIMEDIR//EN
METHOD:PUBLISH
BEGIN:VEVENT
CLASS:PUBLIC
DTSTAMP:20260423T092716Z
UID:12423-1776936436@towncommon.org
DTSTART:20260330T180000Z
DTEND:20260330T230000Z
SUMMARY:Community Red Cross Blood Drive
DESCRIPTION:Blood donations are urgently needed as many blood drives have been
  cancelled this winter due to weather. All are welcome to sign up to
  donate blood.
LOCATION:Winchester Unitarian Society\, 478 Main St\, Winchester\, MA 01890
URL:https://www.winchester.us/calendar.aspx?EID=12423
IMAGE:http://towncommon.org/sites/default/files/PDF2JPEG/WUS2026%2520Blood%2
 520Drive%2520Poster.jpg
END:VEVENT
END:VCALENDAR
