BEGIN:VCALENDAR
VERSION:2.0
PRODID:-//Microsoft Corporation//Outlook 11.0 MIMEDIR//EN
METHOD:PUBLISH
BEGIN:VEVENT
CLASS:PUBLIC
DTSTAMP:20260419T150819Z
UID:4563-1772463600-1772470800@www.winchesterhistoricalsociety.@towncommon.org
DTSTART:20260302T150000Z
DTEND:20260302T170000Z
SUMMARY:MAR 2 - Mahjong at the Sanborn House
DESCRIPTION:Register Here:
  https://www.eventbrite.com/e/recap-and-review-plus-guided-play-with-th
 e-mavens-tickets-1983275772223?aff=oddtdtcreator
LOCATION:Sanborn House\, 15 High Street\, Winchester\, MA 01890
URL:http://www.winchesterhistoricalsociety.org/event/mar-2-mahjong-at-the-
 sanborn-house
CATEGORIES:Cultural
END:VEVENT
END:VCALENDAR
