BEGIN:VCALENDAR
VERSION:2.0
PRODID:-//Microsoft Corporation//Outlook 11.0 MIMEDIR//EN
METHOD:PUBLISH
BEGIN:VEVENT
CLASS:PUBLIC
DTSTAMP:20260423T104614Z
UID:10001212-1774105200-1774110600@www.winchestermusic.org-1776@towncommon.org
DTSTART:20260321T190000Z
DTEND:20260321T203000Z
SUMMARY:WBP Dept. Workshop
DESCRIPTION:Location: Nichols Hall
LOCATION:Winchester Community Music School\, 407 Highland Avenue\, Winchester\,
  MA 01890
URL:https://www.winchestermusic.org/event/wbp-dept-workshop/
CATEGORIES:Cultural\,Education
END:VEVENT
END:VCALENDAR
