BEGIN:VCALENDAR
VERSION:2.0
PRODID:-//Microsoft Corporation//Outlook 11.0 MIMEDIR//EN
METHOD:PUBLISH
BEGIN:VEVENT
CLASS:PUBLIC
DTSTAMP:20260423T105203Z
UID:12345-1776941523@towncommon.org
DTSTART:20260207T200000Z
DTEND:20260207T213000Z
SUMMARY:Brass Master Class with Terry Everson
DESCRIPTION:In this 90-minute master class at Winchester Community Music School\,
  internationally-renowned musician Terry Everson will work with
  selected trumpet and French horn students to develop their musical
  artistry and performance skills. This event is open to all\; the
  public is welcome to attend and observe ($15/registration required).
  Repertoire for the master class will include Sonata Op. 17\, mvt. I
  (Beethoven)\; Prayer of St. Gregory (Hovhaness)\; El Verano
  (Knipfel)\; and an excerpt from Il Trovatore (Verdi). 
 
 Terry Everson is highly sought after as both a performer and an
  educator. Currently on faculty at Boston University and the Tanglewood
  Institute\, he has given master classes at schools including
  Northwestern University\, Yale University\, the New England
  Conservatory\, and Royal College of Music (London). Everson is a
  multiple-award-winning musician who has won critical acclaim for both
  his live performances & recordings. 
 
 For more info visit www.winchestermusic.org or call 781-721-295
LOCATION:Winchester Community Music School\, 407 Highland Avenue\, Winchester\,
  MA 01890
URL:https://www.winchester.us/calendar.aspx?EID=12345
IMAGE:https://www.winchester.us/calendar/Terry%20Everson.png
CATEGORIES:Cultural\,Education
END:VEVENT
END:VCALENDAR
