BEGIN:VCALENDAR
VERSION:2.0
PRODID:-//Microsoft Corporation//Outlook 11.0 MIMEDIR//EN
METHOD:PUBLISH
BEGIN:VEVENT
CLASS:PUBLIC
DTSTAMP:20260419T140930Z
UID:12270-1776607770@towncommon.org
DTSTART:20260124T003000Z
DTEND:20260124T020000Z
SUMMARY:Ripley Presents:The Willie J. Laws Band
DESCRIPTION:A genre-bending band\, tempered with the grooves of Motown\, Memphis\,
  the Gulf Coast of Texas\, and New Orleans. 
 
 The Band is one of the most notable Blues acts with a uniquely modern
  funky style. The band's sound includes deep Texas roots music\, add
  some funk\, and jazz influenced bass patterns\, and the influence of
  various Afro-Caribbean drum beats. This isn't strictly Blues\, much of
  it is original music with its own sound and tempo. You will enter the
  Willie J Laws Band musical train\, covering a varied terrain with its
  assorted musical sounds. It's an exciting\, fast-moving train\, and
  you will most definitely enjoy the ride! 
 
 Willie J. Laws: a Texas guitar gun slinger\, vocalist\, and song
  writer following in the footsteps of T-Bone Walker\, Lightning
  Hopkins\, Albert King and many others. This music is the kind of real
  Texas soul\, all mixed up with classic R&B\, country\, blues/funk that
  grows from the Texas soil.
LOCATION:First Congregational Church\, 21 Church Street\, Winchester\, MA 01890
URL:https://www.winchester.us/calendar.aspx?EID=12270
IMAGE:https://www.winchester.us/calendar/Will-Laws-Publicity-2026-IG.jpeg
CATEGORIES:Cultural
END:VEVENT
END:VCALENDAR
