BEGIN:VCALENDAR
VERSION:2.0
PRODID:-//Microsoft Corporation//Outlook 11.0 MIMEDIR//EN
METHOD:PUBLISH
BEGIN:VEVENT
CLASS:PUBLIC
DTSTAMP:20260423T142715Z
UID:12254-1776954435@towncommon.org
DTSTART:20260120T000000Z
DTEND:20260120T045900Z
SUMMARY:Field Management Committee
DESCRIPTION:Agenda at
  https://www.winchester.us/AgendaCenter/FIELD-MANAGEMENT-COMMITTEE-TOWN
 -CLERKS-O-38/?#_01192026-6814
LOCATION:Remote Participation Via
  Zoomhttps://us02web.zoom.us/meetings/84621678446/invitations?signature
 =LgLyorjXJ9BSpQIqh9RfKEWcItjRU3TFEqeHOJULbyA
URL:https://www.winchester.us/calendar.aspx?EID=12254
CATEGORIES:Government
END:VEVENT
END:VCALENDAR
