BEGIN:VCALENDAR
VERSION:2.0
PRODID:-//Microsoft Corporation//Outlook 11.0 MIMEDIR//EN
METHOD:PUBLISH
BEGIN:VEVENT
CLASS:PUBLIC
DTSTAMP:20260419T135935Z
UID:12123-1776607175@towncommon.org
DTSTART:20251112T140000Z
DTEND:20251113T045900Z
SUMMARY:Winchester Council On Aging
DESCRIPTION:Agenda at
  https://www.winchester.us/AgendaCenter/COUNCIL-ON-AGING-TOWN-CLERKS-OF
 FICE-33/?#_11122025-6707
LOCATION:Jenks Center\, 109 Skillings Road\, Winchester\, MA 01890
URL:https://www.winchester.us/calendar.aspx?EID=12123
CATEGORIES:Government
END:VEVENT
END:VCALENDAR
