BEGIN:VCALENDAR
VERSION:2.0
PRODID:-//Microsoft Corporation//Outlook 11.0 MIMEDIR//EN
METHOD:PUBLISH
BEGIN:VEVENT
CLASS:PUBLIC
DTSTAMP:20260419T143931Z
UID:12121-1776609571@towncommon.org
DTSTART:20251119T000000Z
DTEND:20251119T045900Z
SUMMARY:Winchester Planning Board
DESCRIPTION:Agenda at
  https://www.winchester.us/AgendaCenter/PLANNING-BOARD-TOWN-CLERKS-OFFI
 CE-45/?#_11182025-6704
LOCATION:Winchester Town Hall\, 71 Mt. Vernon Street\, Winchester\, MA 01890
URL:https://www.winchester.us/calendar.aspx?EID=12121
CATEGORIES:Government
END:VEVENT
END:VCALENDAR
