BEGIN:VCALENDAR
VERSION:2.0
PRODID:-//Microsoft Corporation//Outlook 11.0 MIMEDIR//EN
METHOD:PUBLISH
BEGIN:VEVENT
CLASS:PUBLIC
DTSTAMP:20260425T154523Z
UID:12079-1777131923@towncommon.org
DTSTART:20251113T000000Z
DTEND:20251113T010000Z
SUMMARY:The Changing Shape of Winchester a film by Winchester filmmaker Peter
  Engeldrum
DESCRIPTION:Premier showing of Peter Engeldrum's new film The Changing Shape of
  Winchester. Creating in celebration of Winchester's 175th
  anniversary\, the film explores the Town's rapid creation on April
  30\, 1850\, its changing shape\, and a visual perambulation of its
  historical boundaries. 
 
 The Winchester Historical Society is grateful for the collaboration
  with Jenks Center to present this film to our community.
LOCATION:Jenks Center\, 109 Skillings Road\, Winchester\, MA 01890
URL:https://www.winchester.us/calendar.aspx?EID=12079
IMAGE:https://www.winchester.us/calendar/Engeldrum%20Film%20-%202025-11.png
CATEGORIES:Cultural
END:VEVENT
END:VCALENDAR
