BEGIN:VCALENDAR
VERSION:2.0
PRODID:-//Microsoft Corporation//Outlook 11.0 MIMEDIR//EN
METHOD:PUBLISH
BEGIN:VEVENT
CLASS:PUBLIC
DTSTAMP:20260419T135641Z
UID:12081-1776607001@towncommon.org
DTSTART:20251115T003000Z
DTEND:20251115T020000Z
SUMMARY:Ripley Presents: Flamy Grant
DESCRIPTION:Award-winning\, Billboard-charting artist Flamy Grant: shame-slaying\,
  hip-swaying\, singing-songwriting drag queen. 
 
 Live in person and live streamed from the stunning Ripley Chapel\,
  First Congregational Church is pleased to present singer-songwriter
  drag queen\, Flamy Grant. Armed with a bold lip and a blistering
  voice\, Flamy is brilliant\, resilient proof that nothing is sacred
  (but everything is holy) and shame belongs in the closet. 
 
 Hailing from Asheville\, North Carolina\, Flamy's 2022 debut record\,
  Bible Belt Baby\, reached the #1 spot on the iTunes Christian Chart
  (the first drag performer to achieve this feat)\, was nominated for
  Best Pop Album at the San Diego Music Awards\, and was named one of
  the Top Ten Queer Country Albums of 2023 by Rainbow Rodeo Magazine.
  Her single Good Day debuted at #20 on the Billboard Christian digital
  sales chart. Her 2024 sophomore album CHURCH reached #8 on the iTunes
  Country Chart.
LOCATION:First Congregational Church\, 21 Church Street\, Winchester\, MA 01890
URL:https://www.winchester.us/calendar.aspx?EID=12081
IMAGE:https://www.winchester.us/calendar/FlamyGrant-FB.jpg
CATEGORIES:Cultural
END:VEVENT
END:VCALENDAR
