BEGIN:VCALENDAR
VERSION:2.0
PRODID:-//Microsoft Corporation//Outlook 11.0 MIMEDIR//EN
METHOD:PUBLISH
BEGIN:VEVENT
CLASS:PUBLIC
DTSTAMP:20260423T144559Z
UID:12080-1776955559@towncommon.org
DTSTART:20251028T230000Z
DTEND:20251029T035900Z
SUMMARY:Field Management Committee
DESCRIPTION:Agenda at
  https://www.winchester.us/AgendaCenter/FIELD-MANAGEMENT-COMMITTEE-TOWN
 -CLERKS-O-38/?#_10282025-6678
LOCATION:Remote Participation Via Zoomhttps://us02web.zoom.us/j/82999713376
URL:https://www.winchester.us/calendar.aspx?EID=12080
CATEGORIES:Government
END:VEVENT
END:VCALENDAR
