BEGIN:VCALENDAR
VERSION:2.0
PRODID:-//Microsoft Corporation//Outlook 11.0 MIMEDIR//EN
METHOD:PUBLISH
BEGIN:VEVENT
CLASS:PUBLIC
DTSTAMP:20260423T151544Z
UID:12043-1776957344@towncommon.org
DTSTART:20251015T220000Z
DTEND:20251016T035900Z
SUMMARY:Committee On Government Regulations
DESCRIPTION:Agenda at
  https://www.winchester.us/AgendaCenter/COMMITTEE-ON-GOVERNMENT-REGULAT
 IONS-88/?#_10152025-6639
LOCATION:Winchester Town Hall\, 71 Mt. Vernon Street\, Winchester\, MA 01890
URL:https://www.winchester.us/calendar.aspx?EID=12043
CATEGORIES:Government
END:VEVENT
END:VCALENDAR
