BEGIN:VCALENDAR
VERSION:2.0
PRODID:-//Microsoft Corporation//Outlook 11.0 MIMEDIR//EN
METHOD:PUBLISH
BEGIN:VEVENT
CLASS:PUBLIC
DTSTAMP:20260419T134543Z
UID:12012-1776606343@towncommon.org
DTSTART:20251008T130000Z
DTEND:20251009T035900Z
SUMMARY:Winchester Coucil On Aging
DESCRIPTION:Agenda at
  https://www.winchester.us/AgendaCenter/COUNCIL-ON-AGING-TOWN-CLERKS-OF
 FICE-33/?#_10082025-6617
LOCATION:Jenks Center\, 109 Skillings Road\, Winchester\, MA 01890
URL:https://www.winchester.us/calendar.aspx?EID=12012
CATEGORIES:Government
END:VEVENT
END:VCALENDAR
