BEGIN:VCALENDAR
VERSION:2.0
PRODID:-//Microsoft Corporation//Outlook 11.0 MIMEDIR//EN
METHOD:PUBLISH
BEGIN:VEVENT
CLASS:PUBLIC
DTSTAMP:20260423T151134Z
UID:11975-1776957094@towncommon.org
DTSTART:20250919T130000Z
DTEND:20250919T150000Z
SUMMARY:Committee on Government Regulations Decennial Review
DESCRIPTION:Agenda at
  https://www.winchester.us/AgendaCenter/GOVERNMENT-REGULATIONS-57/?#_09
 192025-6590
LOCATION:Remote Participation via ZoomPlace: Register in advance for this
  meeting:https://us02web.zoom.us/meeting/register/qvoLe28wS5C6eQZsXEtms
 g
URL:https://www.winchester.us/calendar.aspx?EID=11975
CATEGORIES:Government
END:VEVENT
END:VCALENDAR
