BEGIN:VCALENDAR
VERSION:2.0
PRODID:-//Microsoft Corporation//Outlook 11.0 MIMEDIR//EN
METHOD:PUBLISH
BEGIN:VEVENT
CLASS:PUBLIC
DTSTAMP:20260419T145754Z
UID:11970-1776610674@towncommon.org
DTSTART:20250920T190000Z
DTEND:20250920T220000Z
SUMMARY:Spirit Weekend Beer Garden
DESCRIPTION:Spirit Weekend Beer Garden! Join your neighbor's and friends to
  celebrate the Winchester Spirit on The Griffin Museum of Photography's
  beautiful outdoor patio! Live music provided by Sounds like Chicken
  and beer poured by Arlington Brewing Co. This is intended as a family
  friendly event for all to enjoy and is brought to you by The
  Winchester Cultural District\, The Winchester Chamber of Commerce and
  our sponsors\, Catherine Albiani Real Estate \, Conquer Ninja Gyms
  Woburn and Kate Maloney Interior Design
LOCATION:Griffin Museum's Outdoor Patio
URL:https://www.winchester.us/calendar.aspx?EID=11970
IMAGE:https://www.winchester.us/calendar/Spirit%20Weekend%202025%20Insta%20p
 ost%20(1).png
CATEGORIES:Community
END:VEVENT
END:VCALENDAR
