BEGIN:VCALENDAR
VERSION:2.0
PRODID:-//Microsoft Corporation//Outlook 11.0 MIMEDIR//EN
METHOD:PUBLISH
BEGIN:VEVENT
CLASS:PUBLIC
DTSTAMP:20260423T105541Z
UID:11896-1776941741@towncommon.org
DTSTART:20250828T233000Z
DTEND:20250829T013000Z
SUMMARY:Committee on Government Regulations
DESCRIPTION:Agenda at
  https://www.winchester.us/AgendaCenter/COMMITTEE-ON-GOVERNMENT-REGULAT
 IONS-88/?#_08282025-6541
LOCATION:Winchester Town Hall\, 71 Mt. Vernon Street\, Winchester\, MA 01890
URL:https://www.winchester.us/calendar.aspx?EID=11896
IMAGE:https://www.winchester.us/ImageRepository/Document?documentId=12265
CATEGORIES:Government
END:VEVENT
END:VCALENDAR
