BEGIN:VCALENDAR
VERSION:2.0
PRODID:-//Microsoft Corporation//Outlook 11.0 MIMEDIR//EN
METHOD:PUBLISH
BEGIN:VEVENT
CLASS:PUBLIC
DTSTAMP:20260423T092624Z
UID:11859-1776936384@towncommon.org
DTSTART:20250825T220000Z
DTEND:20250826T000000Z
SUMMARY:Educational Facilities Planning & Building Committee
DESCRIPTION:Agenda at
  https://www.winchester.us/AgendaCenter/EDUCATIONAL-FACILITIES-PLANNING
 -AND-BUIL-22/?#_08252025-6519
LOCATION:Lynch Field\, 10 Brantwood Road\, Winchester\, MA 01890
URL:https://www.winchester.us/calendar.aspx?EID=11859
CATEGORIES:Government
END:VEVENT
END:VCALENDAR
