BEGIN:VCALENDAR
VERSION:2.0
PRODID:-//Microsoft Corporation//Outlook 11.0 MIMEDIR//EN
METHOD:PUBLISH
BEGIN:VEVENT
CLASS:PUBLIC
DTSTAMP:20260423T143011Z
UID:11838-1776954611@towncommon.org
DTSTART:20250812T230000Z
DTEND:20250813T010000Z
SUMMARY:Field Management Committee Meeting
DESCRIPTION:Agenda at
  https://www.winchester.us/AgendaCenter/FIELD-MANAGEMENT-COMMITTEE-TOWN
 -CLERKS-O-38/?#_08122025-6500
LOCATION:REMOTE PARTICIPATION VIA ZOOMhttps://us02web.zoom.us/j/87083021409
URL:https://www.winchester.us/calendar.aspx?EID=11838
CATEGORIES:Government
END:VEVENT
END:VCALENDAR
