BEGIN:VCALENDAR
VERSION:2.0
PRODID:-//Microsoft Corporation//Outlook 11.0 MIMEDIR//EN
METHOD:PUBLISH
BEGIN:VEVENT
CLASS:PUBLIC
DTSTAMP:20260423T174400Z
UID:TCTF-1776966240@towncommon.org
DTSTART:20250725T230000Z
DTEND:20250726T010000Z
SUMMARY:WLF concert: Acoustic Nomads
DESCRIPTION:At the crossroads of South American folklore and Northern Americana a
  Berklee-trained band of rising stars is taking the acoustic music
  world by storm!
LOCATION:Wright-Locke Farm\, 82 Ridge Street\, Winchester\, MA 01890
URL:https://www.wlfarm.org
IMAGE:http://towncommon.org/sites/default/files/2025-07/Lyndsay-Foote--150x1
 50.jpg
CATEGORIES:Cultural
END:VEVENT
END:VCALENDAR
