BEGIN:VCALENDAR
VERSION:2.0
PRODID:-//Microsoft Corporation//Outlook 11.0 MIMEDIR//EN
METHOD:PUBLISH
BEGIN:VEVENT
CLASS:PUBLIC
DTSTAMP:20260419T130417Z
UID:11782-1776603857@towncommon.org
DTSTART:20250716T130000Z
DTEND:20250716T150000Z
SUMMARY:Commisioners of Trust Funds
DESCRIPTION:Agenda at
  https://www.winchester.us/AgendaCenter/COMMISSIONERS-OF-TRUST-FUNDS-TO
 WN-CLERKS-32/?#_07162025-6454
LOCATION:REMOTE PARTICIPATION
  https://us02web.zoom.us/j/81828554190?pwd=RoQPajIDd4CyabJcoxNbbyYuAvOw
 E5.1 Meeting ID: 818 2855 4190 Passcode: 655805
URL:https://www.winchester.us/calendar.aspx?EID=11782
CATEGORIES:Government
END:VEVENT
END:VCALENDAR
