BEGIN:VCALENDAR
VERSION:2.0
PRODID:-//Microsoft Corporation//Outlook 11.0 MIMEDIR//EN
METHOD:PUBLISH
BEGIN:VEVENT
CLASS:PUBLIC
DTSTAMP:20260423T143144Z
UID:11747-1776954704@towncommon.org
DTSTART:20250702T000000Z
DTEND:20250702T020000Z
SUMMARY:Field Management Committee
DESCRIPTION:Agenda at
  https://www.winchester.us/AgendaCenter/FIELD-MANAGEMENT-COMMITTEE-TOWN
 -CLERKS-O-38/?#_07012025-6427
LOCATION:REMOTE PARTICIPATION VIA ZOOMhttps://us02web.zoom.us/j/85689571601
URL:https://www.winchester.us/calendar.aspx?EID=11747
CATEGORIES:Government
END:VEVENT
END:VCALENDAR
