BEGIN:VCALENDAR
VERSION:2.0
PRODID:-//Microsoft Corporation//Outlook 11.0 MIMEDIR//EN
METHOD:PUBLISH
BEGIN:VEVENT
CLASS:PUBLIC
DTSTAMP:20260423T173809Z
UID:TCTF-1776965889@towncommon.org
DTSTART:20250511T000000Z
DTEND:20250511T013000Z
SUMMARY:Music in the Sanctuary: Cynthia MacLeod with Gordon Belsher
DESCRIPTION:Our final concert in the series is scheduled for SATURDAY (not our
  usual Friday concert night)\, May 10th\, and features fiddler Cynthia
  MacLeod and guitarist\, Gordon Belsher\, both from Prince Edward
  Island.Suggested donations at the door are $20 for adults\, $15 for
  seniors\, and $5 for students. Masks are optional. The venue is
  handicapped accessible\, and street parking is available. For a link
  to the livestreamed concert\, go to Concert Livestream. For more
  information\, call 781-729-0949.
LOCATION:Winchester Unitarian Society\, 478 Main St\, Winchester\, MA 01890
URL:https://www.winchesteruu.org/ongoing-activities-groups/concert-series/
IMAGE:http://towncommon.org/sites/default/files/2025-04/494259618_1112212437
 616722_968926907212824341_n.jpg
CATEGORIES:Cultural
END:VEVENT
END:VCALENDAR
