BEGIN:VCALENDAR
VERSION:2.0
PRODID:-//Microsoft Corporation//Outlook 11.0 MIMEDIR//EN
METHOD:PUBLISH
BEGIN:VEVENT
CLASS:PUBLIC
DTSTAMP:20260423T145321Z
UID:4433-1743717600-1743728400@www.winchesterhistoricalsociety.@towncommon.org
DTSTART:20250403T220000Z
DTEND:20250404T010000Z
SUMMARY:Art in Bloom - Winchester Home & Garden Club Gala
DESCRIPTION:Tickets: $30\, includes light fare and drinks.
LOCATION:Sanborn House\, 15 High Street\, Winchester\, MA 01890
URL:http://www.winchesterhistoricalsociety.org/event/art-in-bloom-winchest
 er-home-garden-club-gala
IMAGE:http://towncommon.org/sites/default/files/2025-03/95528a33-30f7-bc98-5
 df7-376ec4d54f59.jpg
CATEGORIES:Cultural\,Environment
END:VEVENT
END:VCALENDAR
