BEGIN:VCALENDAR
VERSION:2.0
PRODID:-//Microsoft Corporation//Outlook 11.0 MIMEDIR//EN
METHOD:PUBLISH
BEGIN:VEVENT
CLASS:PUBLIC
DTSTAMP:20260423T161501Z
UID:10000742-1742137200-1742140800@www.winchestermusic.org-1776@towncommon.org
DTSTART:20250316T190000Z
DTEND:20250316T200000Z
SUMMARY:Family Concert: En Tu Órbita featuring Sol y Canto
DESCRIPTION:Sol y Canto is the award-winning Pan-Latin ensemble led by Puerto
  Rican/Argentine singer and percussionist Rosi Amador and New Mexican
  guitarist and composer Brian Amador. Featuring Rosi's crystalline
  voice and Brian's lush Spanish guitar and inventive compositions\, Sol
  y Canto is known for making their music accessible to Spanish and
  non-Spanish speaking audiences of all ages. Rosi and Brian are joined
  by cellist/vocalist Queralt Giralt Soler from Barcelona who\, along
  with her spectacular cello playing\, adds her voice to the group's
  intricate vocal harmonies. 
 
 Sol y Canto's original songs are distinguished by poetic\, often
  quirky lyrics set in a framework of varied musical styles with
  surprising twists. They can make you dance\, laugh\, cry and sigh all
  in one concert. 
 
 For more information about the group visit their website\,
  www.solycanto.com. Sol y Canto was also recently featured in a Here
  and Now segment on WBUR. 
 
 $5 general admission. Advance purchase is recommended - tickets are
  often sold out by the day of the show. Tickets available online or in
  person at the front office. 
 
 Buy Tickets
LOCATION:Winchester Community Music School\, 407 Highland Avenue\, Winchester\,
  MA 01890
URL:https://www.winchestermusic.org/event/family-concert-featuring-sol-y-c
 anto/
CATEGORIES:Cultural\,Education
END:VEVENT
END:VCALENDAR
