BEGIN:VCALENDAR
VERSION:2.0
PRODID:-//Microsoft Corporation//Outlook 11.0 MIMEDIR//EN
METHOD:PUBLISH
BEGIN:VEVENT
CLASS:PUBLIC
DTSTAMP:20260419T141208Z
UID:TCTF-1776607928@towncommon.org
DTSTART:20250321T233000Z
DTEND:20250322T010000Z
SUMMARY:Ripley Presents: Celebration Organ Concert
DESCRIPTION:A concert featuring four of Winchester’s best organists: Jeffrey
  Mead\, First Congregational Church\; Jeremy Bruns\, Parish of the
  Epiphany\; John Kramer\, Winchester Unitarian Society\; and Jane
  O’Keefe\, Retired\, St. Mary’s Parish. The town of Winchester
  celebrates 175 years of incorporation as Johann Sebastian Bach turns
  340 years old!The recital showcases the colors\, sounds and
  registrations of FCC’s C. B. Fisk\, Opus 50\, known as “Winchester
  Old\,” a kaleidoscope at the organists’ fingertips. It promises to
  delve into the profound beauty and influence of Bach’s music\,
  featuring not only the music of the composer himself\, but also music
  influenced by and inspired by the old master.Tickets: $20\, general
  admission\; Students\, $5\, both live and live-streamed. All proceeds
  to benefit the Immigrant Support Alliance (ISA).
LOCATION:First Congregational Church\, 21 Church Street\, Winchester\, MA 01890
URL:https://www.mychurchevents.com/calendar/2300120/event/270368439/2025-0
 3-21
IMAGE:http://towncommon.org/sites/default/files/2025-03/Organ-LobbyMonitor2.
 jpg
CATEGORIES:Cultural
END:VEVENT
END:VCALENDAR
