BEGIN:VCALENDAR
VERSION:2.0
PRODID:-//Microsoft Corporation//Outlook 11.0 MIMEDIR//EN
METHOD:PUBLISH
BEGIN:VEVENT
CLASS:PUBLIC
DTSTAMP:20260419T134556Z
UID:TCTF-1776606356@towncommon.org
DTSTART:20241109T140000Z
DTEND:20241109T170000Z
SUMMARY:SoulCollage® Workshop
DESCRIPTION:Jane Ring Frank\, certified SoulCollage® facilitator\, will guide a
  morning of creative\, spiritual practice. SoulCollage® is a collage
  process for accessing your intuitive wisdom. Even though this is an
  “art project\,” it is accessible\, and anyone can do it. You
  don’t need to be an artist to create beautiful SoulCollage® cards
  with rich meaning and messages for your life.All materials and
  direction are included to inspire your creative journey. Using
  scissors\, glue\, images\, photos\, and 8” X 5” mat board\, you
  will be led on a path of self-discovery.You must register to attend.
  To register for the workshop\, please contact Jane Ring Frank at
  857-919-0983 or at jane@fcc-winchester.org. REGISTRATION IS LIMITED TO
  10 PARTICIPANTS. Although there is no charge for the workshop\, a
  freewill offering will be taken. All materials\, snacks\, and drinks
  are included.
LOCATION:First Congregational Church\, 21 Church Street\, Winchester\, MA 01890
URL:https://fcc-winchester.com/latest-news/soulcollage-workshop/
IMAGE:http://towncommon.org/sites/default/files/2024-11/SoulCollage-Flyer202
 4-232x300.jpg
CATEGORIES:Cultural\,Faith
END:VEVENT
END:VCALENDAR
