BEGIN:VCALENDAR
VERSION:2.0
PRODID:-//Microsoft Corporation//Outlook 11.0 MIMEDIR//EN
METHOD:PUBLISH
BEGIN:VEVENT
CLASS:PUBLIC
DTSTAMP:20260419T141038Z
UID:TCTF-1776607838@towncommon.org
DTSTART:20240817T130000Z
DTEND:20240817T190000Z
SUMMARY:National Thrift Shop Day Celebration at En Ka Exchange
DESCRIPTION:En Ka Exchange Resale Shop is opening doors early to show off our fab
  new collection of resale clothing at incredible prices. We are
  featuring a wide variety of curated seasonal wear--from beautiful
  summer dresses to cozy fall sweaters. We have a room filled with
  winter coats--excellent brand names and quality\, brand new children's
  jackets\, ski coats and snow pants. We have brand new shoes--Rag &
  Bone boots\, excellent condition Breakers\, near perfect Merrells\,
  Karl Lagerfeld heels\, and more. You won't believe the prices.
LOCATION:En Ka Society\, 1037 Main Street\, Winchester\, MA 01890
URL:https://www.facebook.com/events/8036186316429471/
IMAGE:http://towncommon.org/sites/default/files/2024-08/455260937_9128811008
 66996_2260233881023984306_n.jpg
CATEGORIES:Commercial\,Community
END:VEVENT
END:VCALENDAR
