BEGIN:VCALENDAR
VERSION:2.0
PRODID:-//Microsoft Corporation//Outlook 11.0 MIMEDIR//EN
METHOD:PUBLISH
BEGIN:VEVENT
CLASS:PUBLIC
DTSTAMP:20260419T123609Z
UID:TCTF-1776602169@towncommon.org
DTSTART:20240731T223000Z
DTEND:20240801T003000Z
SUMMARY:Concert on the Common - Coffee to Cocktails
DESCRIPTION:COFFEE TO COCKTAILS: \"Eclectic acoustic music.\" Music on the Town
  Common\, Wednesdays during the summer. Free for all!
LOCATION:Town Common\, Between Church Street\, Thompson Road\, and Main
  Street\, Winchester\, MA 01890
URL:http://www.winrec.com
IMAGE:http://towncommon.org/sites/default/files/2024-06/Copy_of_Concert_Sche
 dule_Facebook_Post_1.png
CATEGORIES:Community\,Cultural
END:VEVENT
END:VCALENDAR
