BEGIN:VCALENDAR
VERSION:2.0
PRODID:-//Microsoft Corporation//Outlook 11.0 MIMEDIR//EN
METHOD:PUBLISH
BEGIN:VEVENT
CLASS:PUBLIC
DTSTAMP:20260419T145720Z
UID:TCTF-1776610640@towncommon.org
DTSTART:20240713T143000Z
DTEND:20240713T153000Z
SUMMARY:Winchester Riverwalk Tours
DESCRIPTION:Winchester Riverwalk incorporates physical sculptures and augmented
  reality art\, poetry reading\, music performances\, all along the
  Aberjona River in downtown Winchester MA. Read more about the
  Riverwalk and Aberjona Festival on the Winchester Cultural District
  websiteSee a WinCAM Winchester Insider episode about the Riverwalk by
  Lauren Herrmann on WinCAM's YouTube channel. Also\, check out Stefanie
  Timmerman's video of the Riverwalk exhibit opening event:
  https://www.winchesterculturalcouncil.org/Riverwalk/openingSign up for
  a 30 minute guided tour!Register on the Jenks Center website and look
  under Weekend Activities for upcoming tours (tentatively scheduled for
  July 13\, August 10\, and September 21). Request an exclusive private
  tour for your group using the WCD contact form.
LOCATION:Jenks Center\, 109 Skillings Road\, Winchester\, MA 01890
URL:https://sites.google.com/view/winrwtours/
IMAGE:http://towncommon.org/sites/default/files/2024-06/RiverwalkTours.png
CATEGORIES:Cultural
END:VEVENT
END:VCALENDAR
