BEGIN:VCALENDAR
VERSION:2.0
PRODID:-//Microsoft Corporation//Outlook 11.0 MIMEDIR//EN
METHOD:PUBLISH
BEGIN:VEVENT
CLASS:PUBLIC
DTSTAMP:20260419T130417Z
UID:TCTF-1776603857@towncommon.org
DTSTART:20240608T130000Z
DTEND:20240608T160000Z
SUMMARY:Repair Cafe
DESCRIPTION:June 8\, 2024
 
 9:00 am- 12:00 pm
 
 Chidley Hall
 
 REUSE/RECYCLE/REDUCE
 
 Do you have a special pair of jeans or sweater that needs mending\, a
  lamp in need of repair\, a bicycle that needs attention or kitchen
  knives that could use sharpening? Come and be a part of the
  sustainability movement and community by repairing and restoring
  rather than adding to landfills……..while making new friends along
  the way! Sign up here to get your item(s) repaired
 
 We’d love it if you could spread the word about the Repair Cafe.
 
 So please tell your friends and colleagues about us!
 
 Visit our website to sign up and to see next dates
 
 https://www.repaircafewin.com
LOCATION:First Congregational Church\, 21 Church Street\, Winchester\, MA 01890
URL:https://www.signupgenius.com/go/30E094AACAD22A7F94-49800542-repair#/
IMAGE:http://towncommon.org/sites/default/files/2024-05/RP%20win.jpg
CATEGORIES:Community\,Environment\,Nonprofit
END:VEVENT
END:VCALENDAR
